BEGIN:VCALENDAR
VERSION:2.0
PRODID:-//Remoters.club//Events//EN
CALSCALE:GREGORIAN
BEGIN:VEVENT
DTSTAMP:20260420T141134Z
UID:event-ai-enthusiasts-ec570114@remoters.club
DTSTART:20260420T170000
DTEND:20260420T210000
DESCRIPTION:AI Enthusiasts\n Pate: sasquatch\n 
LOCATION:DE
STATUS:CONFIRMED
SUMMARY:AI Enthusiasts
END:VEVENT
BEGIN:VEVENT
DTSTAMP:20260420T141134Z
UID:event-overthewire-bandit-28e06b89@remoters.club
DTSTART:20260420T170000
DTEND:20260420T170000
DESCRIPTION:OverTheWire (Bandit)\n \n https://forum.dmz.rs/t/overthewire-ba
 ndit-1-14/1196
LOCATION:belgrade\, RS
STATUS:CONFIRMED
SUMMARY:OverTheWire (Bandit)
URL;VALUE=URI:https://forum.dmz.rs/t/overthewire-bandit-1-14/1196
END:VEVENT
BEGIN:VEVENT
DTSTAMP:20260420T141134Z
UID:event-discussion-about-money-4fd16270@remoters.club
DTSTART:20260421T160000
DTEND:20260421T160000
DESCRIPTION:Discussion about money\n \n 
LOCATION:belgrade\, RS
STATUS:CONFIRMED
SUMMARY:Discussion about money
END:VEVENT
BEGIN:VEVENT
DTSTAMP:20260420T141134Z
UID:event-tba-dazz-1154df1a@remoters.club
DTSTART:20260422T170000
DTEND:20260422T210000
DESCRIPTION:tba dazz \n Eventepate: dazz\n 
LOCATION:mainhall\, DE
STATUS:CONFIRMED
SUMMARY:tba dazz 
END:VEVENT
BEGIN:VEVENT
DTSTAMP:20260420T141134Z
UID:event-symfony-user-group-fbe0dabe@remoters.club
DTSTART:20260422T170000
DTEND:20260422T210000
DESCRIPTION:Symfony User Group\n Eventepate: dazz\n 
LOCATION:mainhall\, DE
STATUS:CONFIRMED
SUMMARY:Symfony User Group
END:VEVENT
BEGIN:VEVENT
DTSTAMP:20260420T141134Z
UID:event-tba-vortrag-von-dr-victoria-grinwald-f487fd09@remoters.club
DTSTART:20260424T170000
DTEND:20260424T190000
DESCRIPTION:tba: Vortrag von Dr. Victoria Grinwald\n Irgendwas mit Schwarze
 n Löchern(TM).\n\npate: berber\n 
LOCATION:DE
STATUS:CONFIRMED
SUMMARY:tba: Vortrag von Dr. Victoria Grinwald
END:VEVENT
BEGIN:VEVENT
DTSTAMP:20260420T141134Z
UID:event-demoscene-meetup-2d91699b@remoters.club
DTSTART:20260424T180000
DTEND:20260424T200000
DESCRIPTION:Demoscene-Meetup\n pate: vlad\n 
LOCATION:DE
STATUS:CONFIRMED
SUMMARY:Demoscene-Meetup
END:VEVENT
BEGIN:VEVENT
DTSTAMP:20260420T141134Z
UID:event-c-hike-6f16b2e1@remoters.club
DTSTART:20260425T090000
DTEND:20260425T150000
DESCRIPTION:c-hike\n Nerds auf Wanderschaft\nHanami - über die Asashi TV K
 irschblütenallee nach Mahlow\nhttps://wiki.c-base.org/dokuwiki/c-hike:sta
 rt\n\nEventpate: odras\n 
LOCATION:Treffpunkt: S-Bhf Lichterfelde Süd\, DE
STATUS:CONFIRMED
SUMMARY:c-hike
END:VEVENT
BEGIN:VEVENT
DTSTAMP:20260420T141134Z
UID:event-jmv-computerkunst-e-v-64c4e88f@remoters.club
DTSTART:20260425T140000
DTEND:20260425T180000
DESCRIPTION:JMV Computerkunst e.V.\n Jahresmitgliederversammlung des Comput
 erkunst e.V.\n 
LOCATION:Pate: vlad\, DE
STATUS:CONFIRMED
SUMMARY:JMV Computerkunst e.V.
END:VEVENT
BEGIN:VEVENT
DTSTAMP:20260420T141134Z
UID:event-demoscene-meetup-2e10d172@remoters.club
DTSTART:20260425T180000
DTEND:20260425T200000
DESCRIPTION:Demoscene-Meetup\n pate: vlad\n 
LOCATION:DE
STATUS:CONFIRMED
SUMMARY:Demoscene-Meetup
END:VEVENT
BEGIN:VEVENT
DTSTAMP:20260420T141134Z
UID:event-seminarraum-crew-treffen-65e242fa@remoters.club
DTSTART:20260426T160000
DTEND:20260426T180000
DESCRIPTION:Seminarraum-Crew-Treffen\n Interne Veranstaltung\n 
LOCATION:Seminarraum\, DE
STATUS:CONFIRMED
SUMMARY:Seminarraum-Crew-Treffen
END:VEVENT
BEGIN:VEVENT
DTSTAMP:20260420T141134Z
UID:event-osm-contributing-0d798b46@remoters.club
DTSTART:20260427T170000
DTEND:20260427T170000
DESCRIPTION:OSM contributing\n \n 
LOCATION:belgrade\, RS
STATUS:CONFIRMED
SUMMARY:OSM contributing
END:VEVENT
BEGIN:VEVENT
DTSTAMP:20260420T141134Z
UID:event-decentrala-sastanak-576473f4@remoters.club
DTSTART:20260428T160000
DTEND:20260428T160000
DESCRIPTION:Decentrala sastanak\n \n https://forum.dmz.rs/t/decentrala-sast
 anak/13/221
LOCATION:belgrade\, RS
STATUS:CONFIRMED
SUMMARY:Decentrala sastanak
URL;VALUE=URI:https://forum.dmz.rs/t/decentrala-sastanak/13/221
END:VEVENT
BEGIN:VEVENT
DTSTAMP:20260420T141134Z
UID:event-widescope-collective-37c22450@remoters.club
DTSTART:20260502T170000
DTEND:20260503T000000
DESCRIPTION:Widescope Collective\n https://logbuch.c-base.org/archives/5710
 \nEventpaten: kenmutant\, attics\, riot\n 
LOCATION:DE
STATUS:CONFIRMED
SUMMARY:Widescope Collective
END:VEVENT
BEGIN:VEVENT
DTSTAMP:20260420T141134Z
UID:event-digital-independence-day-d445f080@remoters.club
DTSTART:20260503T120000
DTEND:20260503T160000
DESCRIPTION:Digital Independence Day\n Eventpate: uhuspecht\nDay @ c-base\n
 \nAm ersten Sonntag im Monat ist wieder DI.Day (Digital Independence Day) 
 – und dieses Mal findet er erstmals in der c-base statt.\n\nEinmal im Mo
 nat unterstützen wir dabei\, digitale Angebote bewusster und unabhängige
 r zu nutzen. Wir helfen beim Wechsel zu offenen und datenschutzfreundliche
 n Alternativen\, beantworten konkrete Fragen und tüfteln gemeinsam an Lö
 sungen.\n\nEgal\, ob du einfach neugierig bist oder dich bereits intensive
 r mit dem Thema beschäftigst: Komm vorbei\, bring dein Gerät mit und arb
 eite mit uns an deiner digitalen Unabhängigkeit!\n\nDie Veranstaltung ist
  offen für alle – egal ob Einsteiger:in oder Fortgeschrittene. Eigene G
 eräte können gerne mitgebracht werden.\n\nDie Räumlichkeiten sind barri
 erefrei.\n\nDer Eintritt ist frei.\n\nEine gemeinsame Aktion von dem Hacks
 pace c-base\, Digital-Zebra (VÖBB)\, Topio\, dem kleindatenverein\, compu
 tertruhe e.V.\, Möckernkiez e.V. und Anoxinon e.V.\n\nWeitere Information
 en: https://di.day\n\nSchaut auch gerne bei den Veranstaltungen vom Chaos 
 Computer Club Berlin e.V. und dem xHain hack+makespace vorbei.\n\nGemeinsa
 m mehr erreichen\n\nDiese Veranstaltung ist Teil eines Netzwerks aus mehre
 ren Organisationen und Initiativen in Berlin. Wir unterstützen uns gegens
 eitig mit Kompetenz\, Erfahrung und praktischer Hilfe. Uns alle eint der W
 unsch\, Wissen zu teilen\, voneinander zu lernen und solidarisch zusammenz
 uarbeiten.\n\nDer Di.Day bildet dabei den gemeinsamen Rahmen\, in dem wir 
 uns für digitale Selbstbestimmung und nachhaltige digitale Strukturen ein
 setzen.\n\nSchau deshalb gern auch bei den Veranstaltungen der anderen bet
 eiligten Organisationen vorbei. So entsteht ein vielfältiges Angebot\, da
 s Austausch\, Vernetzung und gegenseitige Unterstützung lebendig macht.\n
  
LOCATION:mainhall\, DE
STATUS:CONFIRMED
SUMMARY:Digital Independence Day
END:VEVENT
BEGIN:VEVENT
DTSTAMP:20260420T141134Z
UID:event-dmx-voodoo-8e85fb11@remoters.club
DTSTART:20260510T000000
DTEND:20260511T000000
DESCRIPTION:DMX Voodoo\n pate: cven\, riskieee\n 
LOCATION:DE
STATUS:CONFIRMED
SUMMARY:DMX Voodoo
END:VEVENT
BEGIN:VEVENT
DTSTAMP:20260420T141134Z
UID:event-freifunk-wireless-community-weekend-b11018e3@remoters.club
DTSTART:20260515T000000
DTEND:20260518T000000
DESCRIPTION:Freifunk Wireless Community Weekend\n \n 
LOCATION:DE
STATUS:CONFIRMED
SUMMARY:Freifunk Wireless Community Weekend
END:VEVENT
BEGIN:VEVENT
DTSTAMP:20260420T141134Z
UID:event-ai-enthusiasts-20b84745@remoters.club
DTSTART:20260518T170000
DTEND:20260518T210000
DESCRIPTION:AI Enthusiasts\n Pate: sasquatch\n 
LOCATION:DE
STATUS:CONFIRMED
SUMMARY:AI Enthusiasts
END:VEVENT
BEGIN:VEVENT
DTSTAMP:20260420T141134Z
UID:event-matrix-community-summit-b2ea5ca6@remoters.club
DTSTART:20260521T080000
DTEND:20260525T230000
DESCRIPTION:Matrix Community Summit\n Eventpaten: ligi\, t\n\nMatrix is mor
 e than a protocol — it's a social\, technical\, and political project. I
 t needs places where people can meet\, exchange ideas\, build software\, a
 nd strengthen the community.\n\nIn a world increasingly dominated by a few
  Big Tech players\, decentralization is not just a technical feature — i
 t's a necessity. A connected planet deserves open protocols\, community-dr
 iven infrastructure\, and people who care about building a better future t
 ogether.\n\nhttps://matrix-community.events/conferences/2026-summit.html\n
  
LOCATION:DE
STATUS:CONFIRMED
SUMMARY:Matrix Community Summit
END:VEVENT
BEGIN:VEVENT
DTSTAMP:20260420T141134Z
UID:event-open-hardware-summit-show-tell-132a9851@remoters.club
DTSTART:20260523T163000
DTEND:20260523T213000
DESCRIPTION:Open Hardware Summit: Show &amp\; Tell\n Eventpate: ligi\n\nOpe
 n Hardware Summit 2026 Open Source Open Mic rsvp: * https://ticket.nodefor
 um.org/openmic/ (Open Mic) * https://ticket.nodeforum.org/OHS26/ (Summit) 
 description: Join us after the first day of the Open Hardware Summit (OHS)
  2026 at TU Berlin for the Open Source Open Mic event on board c-base in t
 he mainhall. It will feature performance\, demos\, and an open mic followi
 ng the Berlin Hack &amp\; Tell format. This event is an open community eve
 nt that does not require an autism summit ticket.\n 
LOCATION:mainhall\, DE
STATUS:CONFIRMED
SUMMARY:Open Hardware Summit: Show & Tell
END:VEVENT
BEGIN:VEVENT
DTSTAMP:20260420T141134Z
UID:event-towelday-0513a253@remoters.club
DTSTART:20260525T180000
DTEND:20260525T210000
DESCRIPTION:towelday\n pate: e-punc\n 
LOCATION:DE
STATUS:CONFIRMED
SUMMARY:towelday
END:VEVENT
BEGIN:VEVENT
DTSTAMP:20260420T141134Z
UID:event-c-hike-d9a31672@remoters.club
DTSTART:20260530T090000
DTEND:20260530T160000
DESCRIPTION:c-hike\n Nerds auf Wanderschaft.\nSeit 2023 treffen sich einmal
  im Monat member &amp\; freinds zum gemeinsamen Erkunden grüner Wanderweg
 e in und um Berlin.\nDetails und weitere Infos unter: https://wiki.c-base.
 org/dokuwiki/c-hike:start\n 
LOCATION:tba\, DE
STATUS:CONFIRMED
SUMMARY:c-hike
END:VEVENT
BEGIN:VEVENT
DTSTAMP:20260420T141134Z
UID:event-tba-denial-7dde23b2@remoters.club
DTSTART:20260530T160000
DTEND:20260530T215900
DESCRIPTION:tba denial\n \n 
LOCATION:DE
STATUS:CONFIRMED
SUMMARY:tba denial
END:VEVENT
BEGIN:VEVENT
DTSTAMP:20260420T141134Z
UID:event-dmx-voodoo-78e85297@remoters.club
DTSTART:20260531T000000
DTEND:20260601T000000
DESCRIPTION:DMX Voodoo\n pate: cven\, riskieee\n 
LOCATION:DE
STATUS:CONFIRMED
SUMMARY:DMX Voodoo
END:VEVENT
BEGIN:VEVENT
DTSTAMP:20260420T141134Z
UID:event-digital-independence-day-24b19a68@remoters.club
DTSTART:20260607T120000
DTEND:20260607T160000
DESCRIPTION:Digital Independence Day\n Eventpate: uhuspecht\nDay @ c-base\n
 \nAm ersten Sonntag im Monat ist wieder DI.Day (Digital Independence Day) 
 – und dieses Mal findet er erstmals in der c-base statt.\n\nEinmal im Mo
 nat unterstützen wir dabei\, digitale Angebote bewusster und unabhängige
 r zu nutzen. Wir helfen beim Wechsel zu offenen und datenschutzfreundliche
 n Alternativen\, beantworten konkrete Fragen und tüfteln gemeinsam an Lö
 sungen.\n\nEgal\, ob du einfach neugierig bist oder dich bereits intensive
 r mit dem Thema beschäftigst: Komm vorbei\, bring dein Gerät mit und arb
 eite mit uns an deiner digitalen Unabhängigkeit!\n\nDie Veranstaltung ist
  offen für alle – egal ob Einsteiger:in oder Fortgeschrittene. Eigene G
 eräte können gerne mitgebracht werden.\n\nDie Räumlichkeiten sind barri
 erefrei.\n\nDer Eintritt ist frei.\n\nEine gemeinsame Aktion von dem Hacks
 pace c-base\, Digital-Zebra (VÖBB)\, Topio\, dem kleindatenverein\, compu
 tertruhe e.V.\, Möckernkiez e.V. und Anoxinon e.V.\n\nWeitere Information
 en: https://di.day\n\nSchaut auch gerne bei den Veranstaltungen vom Chaos 
 Computer Club Berlin e.V. und dem xHain hack+makespace vorbei.\n\nGemeinsa
 m mehr erreichen\n\nDiese Veranstaltung ist Teil eines Netzwerks aus mehre
 ren Organisationen und Initiativen in Berlin. Wir unterstützen uns gegens
 eitig mit Kompetenz\, Erfahrung und praktischer Hilfe. Uns alle eint der W
 unsch\, Wissen zu teilen\, voneinander zu lernen und solidarisch zusammenz
 uarbeiten.\n\nDer Di.Day bildet dabei den gemeinsamen Rahmen\, in dem wir 
 uns für digitale Selbstbestimmung und nachhaltige digitale Strukturen ein
 setzen.\n\nSchau deshalb gern auch bei den Veranstaltungen der anderen bet
 eiligten Organisationen vorbei. So entsteht ein vielfältiges Angebot\, da
 s Austausch\, Vernetzung und gegenseitige Unterstützung lebendig macht.\n
  
LOCATION:mainhall\, DE
STATUS:CONFIRMED
SUMMARY:Digital Independence Day
END:VEVENT
BEGIN:VEVENT
DTSTAMP:20260420T141134Z
UID:event-symfony-usergroup-8f77d21d@remoters.club
DTSTART:20260610T170000
DTEND:20260610T210000
DESCRIPTION:Symfony Usergroup\n eventpate: dazz\n 
LOCATION:mainhall\, DE
STATUS:CONFIRMED
SUMMARY:Symfony Usergroup
END:VEVENT
BEGIN:VEVENT
DTSTAMP:20260420T141134Z
UID:event-ai-enthusiasts-cab604db@remoters.club
DTSTART:20260615T170000
DTEND:20260615T210000
DESCRIPTION:AI Enthusiasts\n Pate: sasquatch\n 
LOCATION:DE
STATUS:CONFIRMED
SUMMARY:AI Enthusiasts
END:VEVENT
BEGIN:VEVENT
DTSTAMP:20260420T141134Z
UID:event-c-hike-cf79df57@remoters.club
DTSTART:20260620T090000
DTEND:20260620T160000
DESCRIPTION:c-hike\n Nerds auf Wanderschaft.\nSeit 2023 treffen sich einmal
  im Monat member &amp\; freinds zum gemeinsamen Erkunden grüner Wanderweg
 e in und um Berlin.\nDetails und weitere Infos unter: https://wiki.c-base.
 org/dokuwiki/c-hike:start\n 
LOCATION:tba\, DE
STATUS:CONFIRMED
SUMMARY:c-hike
END:VEVENT
BEGIN:VEVENT
DTSTAMP:20260420T141134Z
UID:event-tba-nerdbeere-c2f56b67@remoters.club
DTSTART:20260627T160000
DTEND:20260627T215900
DESCRIPTION:tba nerdbeere\n \n 
LOCATION:DE
STATUS:CONFIRMED
SUMMARY:tba nerdbeere
END:VEVENT
BEGIN:VEVENT
DTSTAMP:20260420T141134Z
UID:event-metropolcon-2026-auftakt-event-066f076e@remoters.club
DTSTART:20260701T170000
DTEND:20260701T215900
DESCRIPTION:MetropolCon 2026: Auftakt-Event \n Eventpate: Gregor\n 
LOCATION:mainhall\, DE
STATUS:CONFIRMED
SUMMARY:MetropolCon 2026: Auftakt-Event 
END:VEVENT
BEGIN:VEVENT
DTSTAMP:20260420T141134Z
UID:event-retro-computing-meetup-300b949c@remoters.club
DTSTART:20260703T180000
DTEND:20260703T220000
DESCRIPTION:Retro-Computing-Meetup\n eventpate: starpeak\n 
LOCATION:DE
STATUS:CONFIRMED
SUMMARY:Retro-Computing-Meetup
END:VEVENT
BEGIN:VEVENT
DTSTAMP:20260420T141134Z
UID:event-tba-nerdbeere-a7639029@remoters.club
DTSTART:20260704T160000
DTEND:20260704T215900
DESCRIPTION:tba nerdbeere\n \n 
LOCATION:DE
STATUS:CONFIRMED
SUMMARY:tba nerdbeere
END:VEVENT
BEGIN:VEVENT
DTSTAMP:20260420T141134Z
UID:event-digital-independence-day-4634653d@remoters.club
DTSTART:20260705T120000
DTEND:20260705T160000
DESCRIPTION:Digital Independence Day\n Eventpate: uhuspecht\nDay @ c-base\n
 \nAm ersten Sonntag im Monat ist wieder DI.Day (Digital Independence Day) 
 – und dieses Mal findet er erstmals in der c-base statt.\n\nEinmal im Mo
 nat unterstützen wir dabei\, digitale Angebote bewusster und unabhängige
 r zu nutzen. Wir helfen beim Wechsel zu offenen und datenschutzfreundliche
 n Alternativen\, beantworten konkrete Fragen und tüfteln gemeinsam an Lö
 sungen.\n\nEgal\, ob du einfach neugierig bist oder dich bereits intensive
 r mit dem Thema beschäftigst: Komm vorbei\, bring dein Gerät mit und arb
 eite mit uns an deiner digitalen Unabhängigkeit!\n\nDie Veranstaltung ist
  offen für alle – egal ob Einsteiger:in oder Fortgeschrittene. Eigene G
 eräte können gerne mitgebracht werden.\n\nDie Räumlichkeiten sind barri
 erefrei.\n\nDer Eintritt ist frei.\n\nEine gemeinsame Aktion von dem Hacks
 pace c-base\, Digital-Zebra (VÖBB)\, Topio\, dem kleindatenverein\, compu
 tertruhe e.V.\, Möckernkiez e.V. und Anoxinon e.V.\n\nWeitere Information
 en: https://di.day\n\nSchaut auch gerne bei den Veranstaltungen vom Chaos 
 Computer Club Berlin e.V. und dem xHain hack+makespace vorbei.\n\nGemeinsa
 m mehr erreichen\n\nDiese Veranstaltung ist Teil eines Netzwerks aus mehre
 ren Organisationen und Initiativen in Berlin. Wir unterstützen uns gegens
 eitig mit Kompetenz\, Erfahrung und praktischer Hilfe. Uns alle eint der W
 unsch\, Wissen zu teilen\, voneinander zu lernen und solidarisch zusammenz
 uarbeiten.\n\nDer Di.Day bildet dabei den gemeinsamen Rahmen\, in dem wir 
 uns für digitale Selbstbestimmung und nachhaltige digitale Strukturen ein
 setzen.\n\nSchau deshalb gern auch bei den Veranstaltungen der anderen bet
 eiligten Organisationen vorbei. So entsteht ein vielfältiges Angebot\, da
 s Austausch\, Vernetzung und gegenseitige Unterstützung lebendig macht.\n
  
LOCATION:mainhall\, DE
STATUS:CONFIRMED
SUMMARY:Digital Independence Day
END:VEVENT
BEGIN:VEVENT
DTSTAMP:20260420T141134Z
UID:event-bits-bricks-940bc43a@remoters.club
DTSTART:20260717T170000
DTEND:20260717T210000
DESCRIPTION:Bits &amp\; Bricks\n Offener Stammtisch zum Thema Klemmbaustein
 e. \nDigitales Design am Rechner mittels BrickLink Studio oder reale Imple
 mentierung mit Noppensteinen. \nEs werden eigene Entwürfe (MOCs)\, Modifi
 kationen an bestehenden Sets (MODs) und die Qualität der Steine und Baus
 ätze verschiedener Hersteller thematisiert.\nEgal ob programmierbare Robo
 ter\, ein SPACESHIP!\, beleuchtete Gebäude\, Fahrzeuge oder ganz andere W
 elten.\n\nAb 18 Jahre!\n\npate: starpeak \n 
LOCATION:DE
STATUS:CONFIRMED
SUMMARY:Bits & Bricks
END:VEVENT
BEGIN:VEVENT
DTSTAMP:20260420T141134Z
UID:event-ai-enthusiasts-7a13db60@remoters.club
DTSTART:20260720T170000
DTEND:20260720T210000
DESCRIPTION:AI Enthusiasts\n Pate: sasquatch\n 
LOCATION:DE
STATUS:CONFIRMED
SUMMARY:AI Enthusiasts
END:VEVENT
BEGIN:VEVENT
DTSTAMP:20260420T141134Z
UID:event-c-hike-04ee83b1@remoters.club
DTSTART:20260725T090000
DTEND:20260725T160000
DESCRIPTION:c-hike\n Nerds auf Wanderschaft.\nGrüner Wedding (15 km)\nInfo
 s und Details: https://wiki.c-base.org/dokuwiki/c-hike:start\n 
LOCATION:Treffpunkt: S- und U-Bhf Wedding\, DE
STATUS:CONFIRMED
SUMMARY:c-hike
END:VEVENT
BEGIN:VEVENT
DTSTAMP:20260420T141134Z
UID:event-c-hike-431122dd@remoters.club
DTSTART:20260815T090000
DTEND:20260815T160000
DESCRIPTION:c-hike\n Nerds auf Wanderschaft.\nSeit 2023 treffen sich einmal
  im Monat member &amp\; freinds zum gemeinsamen Erkunden grüner Wanderweg
 e in und um Berlin.\nDetails und weitere Infos unter: https://wiki.c-base.
 org/dokuwiki/c-hike:start\n 
LOCATION:tba\, DE
STATUS:CONFIRMED
SUMMARY:c-hike
END:VEVENT
BEGIN:VEVENT
DTSTAMP:20260420T141134Z
UID:event-ai-enthusiasts-7ec41550@remoters.club
DTSTART:20260817T170000
DTEND:20260817T210000
DESCRIPTION:AI Enthusiasts\n Pate: sasquatch\n 
LOCATION:DE
STATUS:CONFIRMED
SUMMARY:AI Enthusiasts
END:VEVENT
BEGIN:VEVENT
DTSTAMP:20260420T141134Z
UID:event-fediday-tba-c1aae2e4@remoters.club
DTSTART:20260911T000000
DTEND:20260914T000000
DESCRIPTION:FediDay (tba)\n Eventpate: e-Punk\n 
LOCATION:DE
STATUS:CONFIRMED
SUMMARY:FediDay (tba)
END:VEVENT
BEGIN:VEVENT
DTSTAMP:20260420T141134Z
UID:event-ai-enthusiasts-75d62638@remoters.club
DTSTART:20260914T170000
DTEND:20260914T210000
DESCRIPTION:AI Enthusiasts\n Pate: sasquatch\n 
LOCATION:DE
STATUS:CONFIRMED
SUMMARY:AI Enthusiasts
END:VEVENT
BEGIN:VEVENT
DTSTAMP:20260420T141134Z
UID:event-c-hike-013d0b5c@remoters.club
DTSTART:20260919T090000
DTEND:20260919T160000
DESCRIPTION:c-hike\n Nerds auf Wanderschaft.\nSeit 2023 treffen sich einmal
  im Monat member &amp\; freinds zum gemeinsamen Erkunden grüner Wanderweg
 e in und um Berlin.\nDetails und weitere Infos unter: https://wiki.c-base.
 org/dokuwiki/c-hike:start\n 
LOCATION:tba\, DE
STATUS:CONFIRMED
SUMMARY:c-hike
END:VEVENT
BEGIN:VEVENT
DTSTAMP:20260420T141134Z
UID:event-c-hike-9b459d2c@remoters.club
DTSTART:20261010T090000
DTEND:20261010T160000
DESCRIPTION:c-hike\n Nerds auf Wanderschaft.\nSeit 2023 treffen sich einmal
  im Monat member &amp\; freinds zum gemeinsamen Erkunden grüner Wanderweg
 e in und um Berlin.\nDetails und weitere Infos unter: https://wiki.c-base.
 org/dokuwiki/c-hike:start\n 
LOCATION:tba\, DE
STATUS:CONFIRMED
SUMMARY:c-hike
END:VEVENT
BEGIN:VEVENT
DTSTAMP:20260420T141134Z
UID:event-ai-enthusiasts-bb015783@remoters.club
DTSTART:20261019T170000
DTEND:20261019T210000
DESCRIPTION:AI Enthusiasts\n Pate: sasquatch\n 
LOCATION:DE
STATUS:CONFIRMED
SUMMARY:AI Enthusiasts
END:VEVENT
BEGIN:VEVENT
DTSTAMP:20260420T141134Z
UID:event-demoscene-meetup-39dfadd8@remoters.club
DTSTART:20261030T190000
DTEND:20261030T210000
DESCRIPTION:Demoscene-Meetup\n pate: vlad\n 
LOCATION:DE
STATUS:CONFIRMED
SUMMARY:Demoscene-Meetup
END:VEVENT
BEGIN:VEVENT
DTSTAMP:20260420T141134Z
UID:event-ai-enthusiasts-4f80fb40@remoters.club
DTSTART:20261116T180000
DTEND:20261116T220000
DESCRIPTION:AI Enthusiasts\n Pate: sasquatch\n 
LOCATION:DE
STATUS:CONFIRMED
SUMMARY:AI Enthusiasts
END:VEVENT
BEGIN:VEVENT
DTSTAMP:20260420T141134Z
UID:event-matrix-community-summit-28d2f7c6@remoters.club
DTSTART:20270513T000000
DTEND:20270518T000000
DESCRIPTION:Matrix Community Summit\n \n 
LOCATION:DE
STATUS:CONFIRMED
SUMMARY:Matrix Community Summit
END:VEVENT
BEGIN:VEVENT
DTSTAMP:20260420T141134Z
UID:event-matrix-community-summit-b918b7fd@remoters.club
DTSTART:20280601T000000
DTEND:20280606T000000
DESCRIPTION:Matrix Community Summit\n \n 
LOCATION:DE
STATUS:CONFIRMED
SUMMARY:Matrix Community Summit
END:VEVENT
END:VCALENDAR
