BEGIN:VCALENDAR
VERSION:2.0
PRODID:-//Remoters.club//Events//EN
CALSCALE:GREGORIAN
BEGIN:VEVENT
DTSTAMP:20260421T092713Z
UID:event--07f526a6@remoters.club
DTSTART:20251120T170000
DTEND:20251120T190000
DESCRIPTION:☣️ Семинар "Антимеметика и как в н
 её сыграть"\n https://t.me/hacker_embassy/93946\n 
LOCATION:yerevan\, AM
STATUS:CONFIRMED
SUMMARY:☣️ Семинар "Антимеметика и как в неё
  сыграть"
END:VEVENT
END:VCALENDAR
