BEGIN:VCALENDAR
VERSION:2.0
PRODID:-//Remoters.club//Events//EN
CALSCALE:GREGORIAN
BEGIN:VEVENT
DTSTAMP:20260421T093705Z
UID:event--9ee13436@remoters.club
DTSTART:20251117T170000
DTEND:20251117T190000
DESCRIPTION:🎲 Настолки\n \n 
LOCATION:yerevan\, AM
STATUS:CONFIRMED
SUMMARY:🎲 Настолки
END:VEVENT
END:VCALENDAR
