BEGIN:VCALENDAR
VERSION:2.0
PRODID:-//Remoters.club//Events//EN
CALSCALE:GREGORIAN
BEGIN:VEVENT
DTSTAMP:20260421T093703Z
UID:event-0074f4d7-a0e4-4f98-baa8-bc7b058c5892@remoters.club
DTSTART:20250113T180000
DTEND:20250113T180000
DESCRIPTION:Lightning talks\n \n 
LOCATION:belgrade\, RS
STATUS:CONFIRMED
SUMMARY:Lightning talks
END:VEVENT
END:VCALENDAR
