BEGIN:VCALENDAR
VERSION:2.0
PRODID:-//Remoters.club//Events//EN
CALSCALE:GREGORIAN
BEGIN:VEVENT
DTSTAMP:20260421T092738Z
UID:event-03a566d2-f25e-4ab2-9795-ac378c8bbe9e@remoters.club
DTSTART:20231031T000000
DTEND:20231031T020000
DESCRIPTION:🍎Apple Event\n Please join us for a special Apple Event. Wat
 ch it online at&nbsp\;apple.com.\n 
LOCATION:yerevan\, AM
STATUS:CONFIRMED
SUMMARY:🍎Apple Event
END:VEVENT
END:VCALENDAR
