BEGIN:VCALENDAR
VERSION:2.0
PRODID:-//Remoters.club//Events//EN
CALSCALE:GREGORIAN
BEGIN:VEVENT
DTSTAMP:20260421T092711Z
UID:event-06e83972-4504-42e5-9bdd-e5aae85916df@remoters.club
DTSTART:20231126T153000
DTEND:20231126T173000
DESCRIPTION:Free MCU Workshop from Hacker Embassy Community
LOCATION:AM
STATUS:CONFIRMED
SUMMARY:MCU Workshop
URL;VALUE=URI:https://hackerembassy.site/
END:VEVENT
END:VCALENDAR
