BEGIN:VCALENDAR
VERSION:2.0
PRODID:-//Remoters.club//Events//EN
CALSCALE:GREGORIAN
BEGIN:VEVENT
DTSTAMP:20260421T092723Z
UID:event-0b0283f4-15e6-41d3-9c4b-3523a4d86687@remoters.club
DTSTART:20241218T170000
DTEND:20241218T170000
DESCRIPTION:Git basics (en)\n \n 
LOCATION:Matematički fakultet\, RS
STATUS:CONFIRMED
SUMMARY:Git basics (en)
END:VEVENT
END:VCALENDAR
