BEGIN:VCALENDAR
VERSION:2.0
PRODID:-//Remoters.club//Events//EN
CALSCALE:GREGORIAN
BEGIN:VEVENT
DTSTAMP:20260421T093713Z
UID:event-1097c255-d814-4332-8488-123b6b0b55ec@remoters.club
DTSTART:20230904T160000
DTEND:20230904T183000
DESCRIPTION:📚 Nix как язык\n Nix преподносится лю
 дям как пакетный менеджер. И это можно по
 нять - это то\, зачем его обычно использую
 т.\n\nНо затем пытающиеся использовать Nix 
 люди сталкиваются со сложностями в опис
 ании сложных конфигураций NixOS\, или стран
 ными ошибками в Nixpkgs\, спотыкаются об отс
 утствие StackOverflow с ответами\, infinite recursion at u
 ndefined position\, :qa!\n\nВероятно\, стоит начать с 
 основ! Попробуем порешать на нём задачки
 .\n\nВ этом небольшом докладе-воркшопе я р
 асскажу про то\, как устроен язык\, во что 
 он компилируется\, и как из этого что-либ
 о собирается\n\nПриходите с Nix-ом на чём-ни
 будь —&nbsp\;это может быть Nix на убунте/мак
 е/wsl-е/nixos\, или даже Android-телефон с Nix-on-Droid!\
 n 
LOCATION:yerevan\, AM
STATUS:CONFIRMED
SUMMARY:📚 Nix как язык
END:VEVENT
END:VCALENDAR
