BEGIN:VCALENDAR
VERSION:2.0
PRODID:-//Remoters.club//Events//EN
CALSCALE:GREGORIAN
BEGIN:VEVENT
DTSTAMP:20260421T092739Z
UID:event-1286f2be-7ff7-4a6b-9c34-a7357be5d670@remoters.club
DTSTART:20241217T170000
DTEND:20241217T170000
DESCRIPTION:Verifiable Computing Project - Truly Open Source Hardware (en)\
 n \n https://forum.dmz.rs/t/plan-za-decembar-2024/815/29
LOCATION:DC Krov\, RS
STATUS:CONFIRMED
SUMMARY:Verifiable Computing Project - Truly Open Source Hardware (en)
URL;VALUE=URI:https://forum.dmz.rs/t/plan-za-decembar-2024/815/29
END:VEVENT
END:VCALENDAR
