BEGIN:VCALENDAR
VERSION:2.0
PRODID:-//Remoters.club//Events//EN
CALSCALE:GREGORIAN
BEGIN:VEVENT
DTSTAMP:20260421T010137Z
UID:event-188e3aa8-186c-4912-9a80-ccd84f47d7f7@remoters.club
DTSTART:20231123T100000
DTEND:20231123T120000
DESCRIPTION:📣To all startup founders and entrepreneurs eager to gain ins
 ights into the stepping stones of data-driven marketing!\n﻿\n🚀Join us
  at The Factory for an exclusive "Speed Mentoring" session with Karina Ava
 nesova\, Product Manager at Intent.AI\, focusing on "The Art of Targeting:
  Running Effective Ads."\n\n📆 Date: November 23\n🕔 Time: 10 AM\n📍
  Location: The Factory\, Unicorn Community Café (83 Koghbatsi Street)\n
 ﻿\n⏳ Each participant will get 10 minutes of personalized speed mentor
 ing with Karina - 5 minutes for their pitch and another 5 minutes for a Q/
 A session. Only 8 chosen entrepreneurs will have the unique opportunity to
  connect with Karina\, present their startup or business idea\, and receiv
 e invaluable advice!
LOCATION:AM
STATUS:CONFIRMED
SUMMARY:The Art of Targeting: Running Effective Ads
URL;VALUE=URI:https://docs.google.com/forms/d/e/1FAIpQLSeU7HthI-pmPLA5yI_7Z
 He1jGoU-_oCG2zOO1r0xmnjE4OENw/viewform?tutm_source=remoters
END:VEVENT
END:VCALENDAR
