BEGIN:VCALENDAR
VERSION:2.0
PRODID:-//Remoters.club//Events//EN
CALSCALE:GREGORIAN
BEGIN:VEVENT
DTSTAMP:20260421T092737Z
UID:event-2000692f-77c7-48ab-82b9-29949c208c49@remoters.club
DTSTART:20231008T100000
DTEND:20231008T140000
DESCRIPTION:💡Вводный курс электроники\n Мы пр
 одолжаем занятия по&nbsp\;электронике для 
 начинающих:– первая ступень для тех\, кт
 о придёт впервые\;– вторая ступень для т
 ех\, кто освоил в  прошлый раз первую.В пр
 ограмме второй ступени:– ток и напряжен
 ие\;– вольт-амперная характеристика\, со
 противление\, закон Ома\;– последователь
 ное и параллельное соединение резисторо
 в\;– как зажечь\, но не сжечь светодиод\;–
  кое что ещё интересное…Ведущий: @assargaddon\
 n 
LOCATION:yerevan\, AM
STATUS:CONFIRMED
SUMMARY:💡Вводный курс электроники
END:VEVENT
END:VCALENDAR
