BEGIN:VCALENDAR
VERSION:2.0
PRODID:-//Remoters.club//Events//EN
CALSCALE:GREGORIAN
BEGIN:VEVENT
DTSTAMP:20260421T140114Z
UID:event-22531fc9-2dda-4227-892c-49b2d1e8b83c@remoters.club
DTSTART:20180504T080000
DTEND:20180504T130000
DESCRIPTION:teilhabeforschung\n Die Arbeitsgruppe ist offen\, auch für Men
 schen ohne Behinderung\, \nExpert*innen in eigener Sache bestimmen über d
 ie Arbeitsweise und den \nInhalt der AG\npate: kela\n 
LOCATION:c-base mainhall\, DE
STATUS:CONFIRMED
SUMMARY:teilhabeforschung
END:VEVENT
END:VCALENDAR
