BEGIN:VCALENDAR
VERSION:2.0
PRODID:-//Remoters.club//Events//EN
CALSCALE:GREGORIAN
BEGIN:VEVENT
DTSTAMP:20260421T105117Z
UID:event-2b55fd69-8241-4b38-b7a1-8b56d4b3c21c@remoters.club
DTSTART:20230926T160000
DTEND:20230926T190000
DESCRIPTION:🎞️Тихое место\n Организатор:&nbsp\; h
 ttps://t.me/NanaKolobkevich\n 
LOCATION:yerevan\, AM
STATUS:CONFIRMED
SUMMARY:🎞️Тихое место
END:VEVENT
END:VCALENDAR
