BEGIN:VCALENDAR
VERSION:2.0
PRODID:-//Remoters.club//Events//EN
CALSCALE:GREGORIAN
BEGIN:VEVENT
DTSTAMP:20260421T105116Z
UID:event-349085ec-f92b-48ed-a00f-1b9050de0773@remoters.club
DTSTART:20241204T170000
DTEND:20241204T170000
DESCRIPTION:OpenGL šejderi #2: SDF renderovanje\n \n 
LOCATION:Matematički fakultet\, RS
STATUS:CONFIRMED
SUMMARY:OpenGL šejderi #2: SDF renderovanje
END:VEVENT
END:VCALENDAR
