BEGIN:VCALENDAR
VERSION:2.0
PRODID:-//Remoters.club//Events//EN
CALSCALE:GREGORIAN
BEGIN:VEVENT
DTSTAMP:20260421T093714Z
UID:event-35232361-1e11-436e-942a-8093eace44e7@remoters.club
DTSTART:20231003T160000
DTEND:20231003T190000
DESCRIPTION:🎬Просмотр фильма Джиа\n \n 
LOCATION:yerevan\, AM
STATUS:CONFIRMED
SUMMARY:🎬Просмотр фильма Джиа
END:VEVENT
END:VCALENDAR
