BEGIN:VCALENDAR
VERSION:2.0
PRODID:-//Remoters.club//Events//EN
CALSCALE:GREGORIAN
BEGIN:VEVENT
DTSTAMP:20260423T160420Z
UID:event-3aa1a8e0-aed3-4b82-b679-9ef6e81ecf0b@remoters.club
DTSTART:20211230T180000
DTEND:20211230T220000
DESCRIPTION:CANCELLED: NO c-lounge on 2021-12-29\n Because there is the pro
 duction for rC3 going on\, only people working on the video production are
  allowed (2G+)\n\nWegen der Videoproduktion für den rC3 sind nur Mitwirke
 nde mit 2G+ erlaubt.\n 
LOCATION:DE
STATUS:CONFIRMED
SUMMARY:CANCELLED: NO c-lounge on 2021-12-29
END:VEVENT
END:VCALENDAR
