BEGIN:VCALENDAR
VERSION:2.0
PRODID:-//Remoters.club//Events//EN
CALSCALE:GREGORIAN
BEGIN:VEVENT
DTSTAMP:20260421T092759Z
UID:event-3c05a396-c995-432a-b339-9224b78239c8@remoters.club
DTSTART:20230922T150000
DTEND:20230922T170000
DESCRIPTION:📚Отвечаем на юридические вопросы
 \n Приглашаем вас в пятницу\, 22 сентября в 
 19:00 на вечер юридических консультаций от
  @NonDisclosureAgreement00001!\n\nПоговорим обо всем: от
  легализации до налогообложения. Вход св
 ободный эксклюзивно для гостей хакерспе
 йса. Можно будет задать любые вопросы\, в
 месте обсудим соответствующие армянски
 е законы и их интерпретацию.&nbsp\;\n\nПриход
 ите\, будет интересно!\n 
LOCATION:yerevan\, AM
STATUS:CONFIRMED
SUMMARY:📚Отвечаем на юридические вопросы
END:VEVENT
END:VCALENDAR
