BEGIN:VCALENDAR
VERSION:2.0
PRODID:-//Remoters.club//Events//EN
CALSCALE:GREGORIAN
BEGIN:VEVENT
DTSTAMP:20260421T093704Z
UID:event-41bd1968-3ddc-4edf-bad7-c9fe91a6ca1f@remoters.club
DTSTART:20241216T180000
DTEND:20241216T180000
DESCRIPTION:Softverski hakaton\n \n https://wiki.dmz.rs/decentrala/dogadjaj
 i/hakaton
LOCATION:DC Krov\, RS
STATUS:CONFIRMED
SUMMARY:Softverski hakaton
URL;VALUE=URI:https://wiki.dmz.rs/decentrala/dogadjaji/hakaton
END:VEVENT
END:VCALENDAR
