BEGIN:VCALENDAR
VERSION:2.0
PRODID:-//Remoters.club//Events//EN
CALSCALE:GREGORIAN
BEGIN:VEVENT
DTSTAMP:20260424T200030Z
UID:event-423077ce-69e3-469b-b893-640a35b1174a@remoters.club
DTSTART:20131102T160000
DTEND:20131102T190000
DESCRIPTION:openSUSE 13.1\n As you may know\, the next openSUSE release is 
 around the corner - it\nis planned for the 19th of November.\n\nWould you 
 like to know what's new?\nJos and Javier (both from the openSUSE Project) 
 will present its new\nfeatures and by the end we will have a BoF session :
 -)\n https://www.google.com/calendar/event?eid=ZXRvc2l0bnFoNmRvcWZyNHYxdm8
 zdGU5MjAgNnJtdWwxcTNzbTM4ZzBoanM4amp0aWQ2aG9AZw
LOCATION:c-base seminarraum\, DE
STATUS:CONFIRMED
SUMMARY:openSUSE 13.1
URL;VALUE=URI:https://www.google.com/calendar/event?eid=ZXRvc2l0bnFoNmRvcWZ
 yNHYxdm8zdGU5MjAgNnJtdWwxcTNzbTM4ZzBoanM4amp0aWQ2aG9AZw
END:VEVENT
END:VCALENDAR
