BEGIN:VCALENDAR
VERSION:2.0
PRODID:-//Remoters.club//Events//EN
CALSCALE:GREGORIAN
BEGIN:VEVENT
DTSTAMP:20260421T092800Z
UID:event-43987498-a81d-40fd-b109-75ff7126a491@remoters.club
DTSTART:20241218T180000
DTEND:20241218T180000
DESCRIPTION:Git basics (en)\n \n 
LOCATION:DC Krov\, RS
STATUS:CONFIRMED
SUMMARY:Git basics (en)
END:VEVENT
END:VCALENDAR
