BEGIN:VCALENDAR
VERSION:2.0
PRODID:-//Remoters.club//Events//EN
CALSCALE:GREGORIAN
BEGIN:VEVENT
DTSTAMP:20260421T093703Z
UID:event-4a4bc8f2-0ead-4987-8351-4c4386fb9994@remoters.club
DTSTART:20241210T180000
DTEND:20241210T180000
DESCRIPTION:Creating Interactive Fiction with TADS (en)\n \n 
LOCATION:DC Krov\, RS
STATUS:CONFIRMED
SUMMARY:Creating Interactive Fiction with TADS (en)
END:VEVENT
END:VCALENDAR
