BEGIN:VCALENDAR
VERSION:2.0
PRODID:-//Remoters.club//Events//EN
CALSCALE:GREGORIAN
BEGIN:VEVENT
DTSTAMP:20260421T092723Z
UID:event-4bb1ea27-80cb-451a-990b-7ee3fe1f94c1@remoters.club
DTSTART:20241127T170000
DTEND:20241127T170000
DESCRIPTION:OpenGL šejderi #1: Osnove\n \n 
LOCATION:DC Krov\, RS
STATUS:CONFIRMED
SUMMARY:OpenGL šejderi #1: Osnove
END:VEVENT
END:VCALENDAR
