BEGIN:VCALENDAR
VERSION:2.0
PRODID:-//Remoters.club//Events//EN
CALSCALE:GREGORIAN
BEGIN:VEVENT
DTSTAMP:20260421T092722Z
UID:event-5174e5c3-c650-4b1b-ab5d-6e0be8d4346d@remoters.club
DTSTART:20241224T180000
DTEND:20241224T180000
DESCRIPTION:Praznicno-novogodisnji izazov u kodiranju 2024\n \n 
LOCATION:belgrade\, RS
STATUS:CONFIRMED
SUMMARY:Praznicno-novogodisnji izazov u kodiranju 2024
END:VEVENT
END:VCALENDAR
