BEGIN:VCALENDAR
VERSION:2.0
PRODID:-//Remoters.club//Events//EN
CALSCALE:GREGORIAN
BEGIN:VEVENT
DTSTAMP:20260421T093713Z
UID:event-5dc7c894-6860-49d3-ac7d-fc61a0961727@remoters.club
DTSTART:20230903T100000
DTEND:20230903T140000
DESCRIPTION:🕹️ Life is Strange\n \n 
LOCATION:yerevan\, AM
STATUS:CONFIRMED
SUMMARY:🕹️ Life is Strange
END:VEVENT
END:VCALENDAR
