BEGIN:VCALENDAR
VERSION:2.0
PRODID:-//Remoters.club//Events//EN
CALSCALE:GREGORIAN
BEGIN:VEVENT
DTSTAMP:20260421T010213Z
UID:event-63e972a0-9e23-4357-90b4-487a4f4bc300@remoters.club
DTSTART:20231202T140000
DTEND:20231202T160000
DESCRIPTION:🌟 Join us for the Angel Conference 2023 in partnership with 
 EBAN\, presented by BANA Angels! 🚀\n\n📅 Date: Dec 2\, 2023\n🕒 Tim
 e: 2 PM\n📍 Location: Will be provided in the invitation \n\n▶ ABOUT T
 HE EVENT \n\nIn partnership with EBAN\, the Angel Conference is a premier 
 event hosted by BANA Angels\, the largest network of angel investors in Ar
 menia. This conference brings together seasoned angel investors from Armen
 ia and Europe\, startup enthusiasts\, and industry experts to explore the 
 dynamic landscape of angel investing. It's not just a conference\; it's a 
 platform for networking\, knowledge sharing\, and fostering meaningful con
 nections.\n\n▶ WHAT TO EXPECT?\n\n🧠 Knowledge Exchange: Engage in in-
 depth discussions and knowledge sharing among angel investors from Europe 
 and Armenia. Gain insights into the dynamics of angel investing.\n🤝 Net
 working: Create valuable connections\, fostering collaboration and potenti
 al investment opportunities.\n🌐 Promotion: Showcase Armenia's burgeonin
 g tech ecosystem and highlight successful projects while discussing the po
 tential for Armenia-Europe cooperation in the tech sector.\n\n▶ SPECIAL 
 GUESTS\n\nJanne Jormalainen\nJanne Jormalainen is a seasoned entrepreneur 
 and angel investor with a rich history in the corporate and startup worlds
 . \n\nAnna-Kaarina Lipsanen\nAnna-Kaarina Lipsanen is an experienced angel
  investor and influential figure in the Finnish startup ecosystem. Having 
 invested in over 15 startups since 2011\, she is recognized for her signif
 icant contributions to FiBAN. \n\nThe conference is supported by The Europ
 ean Union's EU4Business “Innovative Tourism and Technology Development f
 or Armenia” Project.\n\n\n❗ Please note that attendance for this event
  is by invitation only.\n\nRegister as an Investor: https://bit.ly/3MIFulx
   \nRegister as a Participant: https://bit.ly/3MMFS2t 
LOCATION:AM
STATUS:CONFIRMED
SUMMARY:Angel Conference 2023
URL;VALUE=URI:https://www.linkedin.com/events/angelconference20237131284958
 739853312/about/
END:VEVENT
END:VCALENDAR
