BEGIN:VCALENDAR
VERSION:2.0
PRODID:-//Remoters.club//Events//EN
CALSCALE:GREGORIAN
BEGIN:VEVENT
DTSTAMP:20260421T092724Z
UID:event-717c5918-7fef-4ea1-a85c-b10abcc4a90f@remoters.club
DTSTART:20241209T180000
DTEND:20241209T180000
DESCRIPTION:Ne treba nam (toliko) Javascript\n \n 
LOCATION:DC Krov\, RS
STATUS:CONFIRMED
SUMMARY:Ne treba nam (toliko) Javascript
END:VEVENT
END:VCALENDAR
