BEGIN:VCALENDAR
VERSION:2.0
PRODID:-//Remoters.club//Events//EN
CALSCALE:GREGORIAN
BEGIN:VEVENT
DTSTAMP:20260421T092712Z
UID:event-729fd702-36ad-4e0b-957a-e05899dca4a4@remoters.club
DTSTART:20230918T170000
DTEND:20230918T200000
DESCRIPTION:🎸Rocksmith Jam\n Приносим гитары\, играе
 м в Rocksmith и джемимHost:&nbsp\;@cake64\n 
LOCATION:yerevan\, AM
STATUS:CONFIRMED
SUMMARY:🎸Rocksmith Jam
END:VEVENT
END:VCALENDAR
