BEGIN:VCALENDAR
VERSION:2.0
PRODID:-//Remoters.club//Events//EN
CALSCALE:GREGORIAN
BEGIN:VEVENT
DTSTAMP:20260421T105117Z
UID:event-73b23b47-1520-446e-9f37-ca36bc460c99@remoters.club
DTSTART:20241211T170000
DTEND:20241211T170000
DESCRIPTION:OpenGL šejderi #3: Kompleksna analiza\n \n 
LOCATION:DC Krov\, RS
STATUS:CONFIRMED
SUMMARY:OpenGL šejderi #3: Kompleksna analiza
END:VEVENT
END:VCALENDAR
