BEGIN:VCALENDAR
VERSION:2.0
PRODID:-//Remoters.club//Events//EN
CALSCALE:GREGORIAN
BEGIN:VEVENT
DTSTAMP:20260421T093704Z
UID:event-7631cf86-8377-4a45-8934-e0b70f1eb2e7@remoters.club
DTSTART:20231105T120000
DTEND:20231105T150000
DESCRIPTION:💡Курс электроники для начинающих
 : продолжение\n Hosted by&nbsp\;@assargaddon\n 
LOCATION:yerevan\, AM
STATUS:CONFIRMED
SUMMARY:💡Курс электроники для начинающих: п
 родолжение
END:VEVENT
END:VCALENDAR
