BEGIN:VCALENDAR
VERSION:2.0
PRODID:-//Remoters.club//Events//EN
CALSCALE:GREGORIAN
BEGIN:VEVENT
DTSTAMP:20260421T010250Z
UID:event-8c5b6be0-a7ed-43ed-b0cc-91806b725a98@remoters.club
DTSTART:20231121T203000
DTEND:20231121T223000
DESCRIPTION:Join us Nov 21 for "The State of Kotlin Multiplatform" live str
 eam watch party with GDG Yerevan. Engage\, learn\, and network! 
LOCATION:AM
STATUS:CONFIRMED
SUMMARY:The State of Kotlin Multiplatform – Live Stream Watch Party
URL;VALUE=URI:https://gdg.community.dev/events/details/google-gdg-yerevan-p
 resents-the-state-of-kotlin-multiplatform-live-stream-watch-party/
END:VEVENT
END:VCALENDAR
