BEGIN:VCALENDAR
VERSION:2.0
PRODID:-//Remoters.club//Events//EN
CALSCALE:GREGORIAN
BEGIN:VEVENT
DTSTAMP:20260421T105118Z
UID:event-95387fdd-de89-41dd-8133-24b2f7f7cfe9@remoters.club
DTSTART:20241118T180000
DTEND:20241118T180000
DESCRIPTION:Intro to Security Auditing\n \n 
LOCATION:DC Krov\, RS
STATUS:CONFIRMED
SUMMARY:Intro to Security Auditing
END:VEVENT
END:VCALENDAR
