BEGIN:VCALENDAR
VERSION:2.0
PRODID:-//Remoters.club//Events//EN
CALSCALE:GREGORIAN
BEGIN:VEVENT
DTSTAMP:20260421T004022Z
UID:event-9b24675c-8ab3-4add-9af1-d8e2b75f4acc@remoters.club
DTSTART:20231125T150000
DTEND:20231125T170000
DESCRIPTION:Nov 25: Dive into "The State of Kotlin Multiplatform – Extend
 ed Recap &amp\; Networking Session" with GDG Yerevan. Recap\, discussions\
 , and networking. \n
LOCATION:AM
STATUS:CONFIRMED
SUMMARY:The State of Kotlin Multiplatform – Extended Recap & Networking S
 ession
URL;VALUE=URI:https://gdg.community.dev/events/details/google-gdg-yerevan-p
 resents-the-state-of-kotlin-multiplatform-extended-recap-amp-networking-se
 ssion/
END:VEVENT
END:VCALENDAR
