BEGIN:VCALENDAR
VERSION:2.0
PRODID:-//Remoters.club//Events//EN
CALSCALE:GREGORIAN
BEGIN:VEVENT
DTSTAMP:20260421T092737Z
UID:event-a53bc7c2-fbdc-474f-ac1a-b85679bee15f@remoters.club
DTSTART:20230816T170000
DTEND:20230816T200000
DESCRIPTION:Прохождение Life is Strange: True Colors (сесси
 я 3)\n \n 
LOCATION:yerevan\, AM
STATUS:CONFIRMED
SUMMARY:Прохождение Life is Strange: True Colors (сессия 3
 )
END:VEVENT
END:VCALENDAR
