BEGIN:VCALENDAR
VERSION:2.0
PRODID:-//Remoters.club//Events//EN
CALSCALE:GREGORIAN
BEGIN:VEVENT
DTSTAMP:20260424T150058Z
UID:event-b9c9001c-7ef6-48cf-b95b-8706fd17ae0b@remoters.club
DTSTART:20071213T200000
DTEND:20071213T220000
DESCRIPTION:Colloquium: Irrlicht3d (rubbel)\n rubbel führt Euch in die Mö
 glichkeiten der frei verfügbaren 3d-Spiele-Engine "Irrlicht" ein\; anhand
  eines kleinen Spieles wird er vorführen\, wie einfach 3D-Programmierung 
 mit Irrlicht ist. (Stichwort OpenGL\, blender\, DirectX)\n https://www.goo
 gle.com/calendar/event?eid=YWtrdXE3aDBzMzJwazRuOHUwYWpoamhobzggNnJtdWwxcTN
 zbTM4ZzBoanM4amp0aWQ2aG9AZw
LOCATION:Mainhall\, DE
STATUS:CONFIRMED
SUMMARY:Colloquium: Irrlicht3d (rubbel)
URL;VALUE=URI:https://www.google.com/calendar/event?eid=YWtrdXE3aDBzMzJwazR
 uOHUwYWpoamhobzggNnJtdWwxcTNzbTM4ZzBoanM4amp0aWQ2aG9AZw
END:VEVENT
END:VCALENDAR
