BEGIN:VCALENDAR
VERSION:2.0
PRODID:-//Remoters.club//Events//EN
CALSCALE:GREGORIAN
BEGIN:VEVENT
DTSTAMP:20260421T092722Z
UID:event-bb3532ec-8579-419a-8a17-ee68b186891e@remoters.club
DTSTART:20241202T180000
DTEND:20241202T180000
DESCRIPTION:Lightning talks\n \n https://wiki.dmz.rs/decentrala/dogadjaji/l
 ightningtalks
LOCATION:DC Krov\, RS
STATUS:CONFIRMED
SUMMARY:Lightning talks
URL;VALUE=URI:https://wiki.dmz.rs/decentrala/dogadjaji/lightningtalks
END:VEVENT
END:VCALENDAR
