BEGIN:VCALENDAR
VERSION:2.0
PRODID:-//Remoters.club//Events//EN
CALSCALE:GREGORIAN
BEGIN:VEVENT
DTSTAMP:20260423T033236Z
UID:event-bitdevs-meetup-abc34a92@remoters.club
DTSTART:20260610T170000
DTEND:20260610T200000
DESCRIPTION:BitDevs meetup\n https://bitdevs.berlin/\n\npate: candle\n 
LOCATION:c-minarraum\, DE
STATUS:CONFIRMED
SUMMARY:BitDevs meetup
END:VEVENT
END:VCALENDAR
