BEGIN:VCALENDAR
VERSION:2.0
PRODID:-//Remoters.club//Events//EN
CALSCALE:GREGORIAN
BEGIN:VEVENT
DTSTAMP:20260421T093703Z
UID:event-c3f9d314-6447-415f-833d-d03227378a9f@remoters.club
DTSTART:20241203T180000
DTEND:20241203T180000
DESCRIPTION:Sysadmin vežbe\n \n https://wiki.dmz.rs/en/sysadmin
LOCATION:DC Krov\, RS
STATUS:CONFIRMED
SUMMARY:Sysadmin vežbe
URL;VALUE=URI:https://wiki.dmz.rs/en/sysadmin
END:VEVENT
END:VCALENDAR
