BEGIN:VCALENDAR
VERSION:2.0
PRODID:-//Remoters.club//Events//EN
CALSCALE:GREGORIAN
BEGIN:VEVENT
DTSTAMP:20260421T092737Z
UID:event-cd3b7335-f164-4d39-8d9c-cdc211d9b797@remoters.club
DTSTART:20241223T180000
DTEND:20241223T180000
DESCRIPTION:Osnove Elektrotehnike (OET)\n \n 
LOCATION:belgrade\, RS
STATUS:CONFIRMED
SUMMARY:Osnove Elektrotehnike (OET)
END:VEVENT
END:VCALENDAR
