BEGIN:VCALENDAR
VERSION:2.0
PRODID:-//Remoters.club//Events//EN
CALSCALE:GREGORIAN
BEGIN:VEVENT
DTSTAMP:20260421T092711Z
UID:event-d75b2d20-8261-43bf-b3bb-8f60892bb0b8@remoters.club
DTSTART:20241217T170000
DTEND:20241217T170000
DESCRIPTION:Verifiable Computing Project - Building Truly Open Source Hardw
 are (en)\n \n 
LOCATION:DC Krov\, RS
STATUS:CONFIRMED
SUMMARY:Verifiable Computing Project - Building Truly Open Source Hardware 
 (en)
END:VEVENT
END:VCALENDAR
