BEGIN:VCALENDAR
VERSION:2.0
PRODID:-//Remoters.club//Events//EN
CALSCALE:GREGORIAN
BEGIN:VEVENT
DTSTAMP:20260421T010056Z
UID:event-dc064cb6-97e3-4c0b-b960-bbea1a9fd24b@remoters.club
DTSTART:20231207T203000
DTEND:20231207T193000
DESCRIPTION:Join us on December 7th at 7:30 PM at the Unicorn Community Caf
 e for an engaging session of 'Business Talks'. Our evening topic\, "Startu
 p Financing and Investment\," will feature Grigor Hovhannisyan\, General a
 t Formula VC\, President at BANA Angels\, and a serial entrepreneur and in
 vestor.\n\nExpect a night of dynamic discussions and valuable insights as 
 we delve into the crucial aspects of financing and investing in the startu
 p ecosystem. Whether you're an aspiring entrepreneur\, a startup enthusias
 t\, or an experienced investor\, this event is the perfect opportunity to 
 enhance your knowledge and expand your network.\n\n🔑 Seats are limited!
  To secure your spot in this interactive and insightful gathering\, make s
 ure to register ASAP. Don't miss the chance to gain invaluable insights an
 d connect with industry leaders.\n\nRegister now and be part of the conver
 sation that could define your next big move in the startup world.\n\n#Busi
 nessTalks #StartupFinancing #InvestmentInsights #NetworkingEvent #ProductP
 eople
LOCATION:AM
STATUS:CONFIRMED
SUMMARY:Business Talks: Startup Financing and Investment
URL;VALUE=URI:https://www.linkedin.com/events/businesstalks-startupfinancin
 ga7137721173827567616/about/
END:VEVENT
END:VCALENDAR
