BEGIN:VCALENDAR
VERSION:2.0
PRODID:-//Remoters.club//Events//EN
CALSCALE:GREGORIAN
BEGIN:VEVENT
DTSTAMP:20260421T092738Z
UID:event-dce2513c-dd70-4389-b7a0-1b2c017deae7@remoters.club
DTSTART:20241217T180000
DTEND:20241217T180000
DESCRIPTION:Hardverski hakaton\n \n https://forum.dmz.rs/t/hardware-hackath
 on-novembar/832
LOCATION:DC Krov\, RS
STATUS:CONFIRMED
SUMMARY:Hardverski hakaton
URL;VALUE=URI:https://forum.dmz.rs/t/hardware-hackathon-novembar/832
END:VEVENT
END:VCALENDAR
