BEGIN:VCALENDAR
VERSION:2.0
PRODID:-//Remoters.club//Events//EN
CALSCALE:GREGORIAN
BEGIN:VEVENT
DTSTAMP:20260421T092712Z
UID:event-dmx-voodoo-4c4f6e85@remoters.club
DTSTART:20260215T000000
DTEND:20260216T000000
DESCRIPTION:DMX Voodoo\n pate: cven\n 
LOCATION:DE
STATUS:CONFIRMED
SUMMARY:DMX Voodoo
END:VEVENT
END:VCALENDAR
