BEGIN:VCALENDAR
VERSION:2.0
PRODID:-//Remoters.club//Events//EN
CALSCALE:GREGORIAN
BEGIN:VEVENT
DTSTAMP:20260421T105116Z
UID:event-dr-victoria-grinwald-black-hole-astrophysics-bf8bc5a1@remoters.cl
 ub
DTSTART:20260424T170000
DTEND:20260424T190000
DESCRIPTION:Dr. Victoria Grinwald: black hole astrophysics\n talk about *as
 trophysics* by [Dr. Victoria Grinberg](https://mastodon.social/@vicgrinber
 g) "Seeing the invisible: black hole astrophysics".  The intended audience
  is everyone and anyone who is interested in the topic\, including people 
 who know very little about this subject.\n\n- Free entrance\, no preregist
 ration required\n- Language: English\n\nBlack holes exist in reality and n
 ot just in (bad) sci fi movies. With modern telescopes\, astrophysicists c
 an observe them\, both in our own Milky Way and in other galaxies. But why
  are scientists all over the world fascinated by black holes? Where can we
  find them\, both on the night sky and in publicly available datasets from
  space based telescopes? And what do they tell us about Life\, the Univers
 e and Everything?\n\nIn this talk\, the astrophysicist and illustrator Vic
 toria Grinberg will tackle these questions - without formulae and based on
  her own work and experience.\n\n\n\npate: berber\n 
LOCATION:DE
STATUS:CONFIRMED
SUMMARY:Dr. Victoria Grinwald: black hole astrophysics
END:VEVENT
END:VCALENDAR
