BEGIN:VCALENDAR
VERSION:2.0
PRODID:-//Remoters.club//Events//EN
CALSCALE:GREGORIAN
BEGIN:VEVENT
DTSTAMP:20260421T132907Z
UID:event-e34d24ac-0497-46e9-8b12-084124f8b989@remoters.club
DTSTART:20170210T190052
DTEND:20170210T225552
DESCRIPTION:Traceroute Screening\n \n 
LOCATION:c-base mainhall\, DE
STATUS:CONFIRMED
SUMMARY:Traceroute Screening
END:VEVENT
END:VCALENDAR
