BEGIN:VCALENDAR
VERSION:2.0
PRODID:-//Remoters.club//Events//EN
CALSCALE:GREGORIAN
BEGIN:VEVENT
DTSTAMP:20260421T212538Z
UID:event-e8070741-2998-4dc7-8d55-07c9a9aa986d@remoters.club
DTSTART:20181006T080000
DTEND:20181006T180000
DESCRIPTION:Eurorack Barcelona Workshop\n Befaco\, Patching Panda\, Transie
 nt\nModules DIY Eurorack Workshop\n                          \nhttp://patc
 hingpanda.com/wp-content/uploads/2018/08/EurorackBCN_workshop_Dossier.pdf\
 n                          \npate: dave\n 
LOCATION:c-base seminarraum\, DE
STATUS:CONFIRMED
SUMMARY:Eurorack Barcelona Workshop
END:VEVENT
END:VCALENDAR
