BEGIN:VCALENDAR
VERSION:2.0
PRODID:-//Remoters.club//Events//EN
CALSCALE:GREGORIAN
BEGIN:VEVENT
DTSTAMP:20260421T093713Z
UID:event-english-club-b47554da@remoters.club
DTSTART:20251116T160000
DTEND:20251116T190000
DESCRIPTION:🇬🇧 English Club\n Meet and chat on any topic at our Engli
 sh Speaking Club\, open to all skill levels. Join us for fun and friendly 
 conversation practice.\nHost:&nbsp\;@stripped_edie / @dipierro\n 
LOCATION:yerevan\, AM
STATUS:CONFIRMED
SUMMARY:🇬🇧 English Club
END:VEVENT
END:VCALENDAR
