BEGIN:VCALENDAR
VERSION:2.0
PRODID:-//Remoters.club//Events//EN
CALSCALE:GREGORIAN
BEGIN:VEVENT
DTSTAMP:20260421T092548Z
UID:event-f6225e4c-bc6a-4384-8d9e-bb8785474b58@remoters.club
DTSTART:20250128T180000
DTEND:20250128T180000
DESCRIPTION:OpenStreetMap editovanje\n \n https://osmcal.org/event/3355/
LOCATION:belgrade\, RS
STATUS:CONFIRMED
SUMMARY:OpenStreetMap editovanje
URL;VALUE=URI:https://osmcal.org/event/3355/
END:VEVENT
END:VCALENDAR
