BEGIN:VCALENDAR
VERSION:2.0
PRODID:-//Remoters.club//Events//EN
CALSCALE:GREGORIAN
BEGIN:VEVENT
DTSTAMP:20260425T153634Z
UID:event-f68e0e7d-9b78-4b91-8b26-b8bee8b83db6@remoters.club
DTSTART:20250124T190000
DTEND:20250124T220000
DESCRIPTION:TBA riot\n pate: riot\n 
LOCATION:DE
STATUS:CONFIRMED
SUMMARY:TBA riot
END:VEVENT
END:VCALENDAR
