BEGIN:VCALENDAR
VERSION:2.0
PRODID:-//Remoters.club//Events//EN
CALSCALE:GREGORIAN
BEGIN:VEVENT
DTSTAMP:20260421T092722Z
UID:event-fc067005-62b7-4487-9ce8-fedc521e8edf@remoters.club
DTSTART:20231112T070000
DTEND:20231112T090000
DESCRIPTION:VENT\n \n 
LOCATION:yerevan\, AM
STATUS:CONFIRMED
SUMMARY:VENT
END:VEVENT
END:VCALENDAR
