BEGIN:VCALENDAR
VERSION:2.0
PRODID:-//Remoters.club//Events//EN
CALSCALE:GREGORIAN
BEGIN:VEVENT
DTSTAMP:20260421T092711Z
UID:event-music-jam-cdd07835@remoters.club
DTSTART:20251125T160000
DTEND:20251125T180000
DESCRIPTION:Music Jam\n Host: @ShimaOnly \n 
LOCATION:yerevan\, AM
STATUS:CONFIRMED
SUMMARY:Music Jam
END:VEVENT
END:VCALENDAR
